BEGIN:VCALENDAR
VERSION:2.0
PRODID:-//South Eastern Historical Association Inc. - ECPv6.5.1.5//NONSGML v1.0//EN
CALSCALE:GREGORIAN
METHOD:PUBLISH
X-ORIGINAL-URL:http://seha.org.au
X-WR-CALDESC:Events for South Eastern Historical Association Inc.
REFRESH-INTERVAL;VALUE=DURATION:PT1H
X-Robots-Tag:noindex
X-PUBLISHED-TTL:PT1H
BEGIN:VTIMEZONE
TZID:Australia/Melbourne
BEGIN:STANDARD
TZOFFSETFROM:+1100
TZOFFSETTO:+1000
TZNAME:AEST
DTSTART:20220402T160000
END:STANDARD
BEGIN:DAYLIGHT
TZOFFSETFROM:+1000
TZOFFSETTO:+1100
TZNAME:AEDT
DTSTART:20221001T160000
END:DAYLIGHT
BEGIN:STANDARD
TZOFFSETFROM:+1100
TZOFFSETTO:+1000
TZNAME:AEST
DTSTART:20230401T160000
END:STANDARD
BEGIN:DAYLIGHT
TZOFFSETFROM:+1000
TZOFFSETTO:+1100
TZNAME:AEDT
DTSTART:20230930T160000
END:DAYLIGHT
BEGIN:STANDARD
TZOFFSETFROM:+1100
TZOFFSETTO:+1000
TZNAME:AEST
DTSTART:20240406T160000
END:STANDARD
BEGIN:DAYLIGHT
TZOFFSETFROM:+1000
TZOFFSETTO:+1100
TZNAME:AEDT
DTSTART:20241005T160000
END:DAYLIGHT
END:VTIMEZONE
BEGIN:VEVENT
DTSTART;TZID=Australia/Melbourne:20241124T100000
DTEND;TZID=Australia/Melbourne:20241124T150000
DTSTAMP:20260426T030712
CREATED:20241015T070617Z
LAST-MODIFIED:20241105T112353Z
UID:5086-1732442400-1732460400@seha.org.au
SUMMARY:Coast : Aspendale to Carrum Looking Back display
DESCRIPTION:Chelsea and District Historical Society present their latest display – Coast : Aspendale to Carrum Looking Back. \nWhere: Chelsea Courthouse\, 6 The Strand\, Chelsea.\nWhen:\nFriday\, November 22\, 2024 – 12 noon to 3.00pm\nSaturday\, November 23\, 2024 – 10.00am – 3.00pm\nSunday\, November 24\, 2024 – 10.00am -3.00pm. \nThe exhibition will feature old photographs and stories about the local area and how its development has been shaped by our magnificent beaches. Our books will be on sale and you are welcome to become a member of the Society. Free entry and everyone is welcome! \nThe following snapshot of history is paraphrased from “Chelsea: a Beachside Community” by Frank McGuire.\nBefore white settlers arrived\, first nations people\, The Bunurong\, knew the area as Karrum Karrum. Kangaroos and emu were to be found along the lightly wooded coast\, colonies of koalas were in the Manna Gums along the Isles of Wannak Laddin (modern day Chelsea Heights) and the swamp was teeming with birdlife. From the top of Olivers Hill the Bunurong would have seen the ribbon of sand running from present day Aspendale to Carrum. The swamp stretched about fifteen kilometres north/south from the Mordialloc Creek and ran about five kilometres inland. Development began with fishing and cattle farming and as people discovered the beautiful beaches\, the area became a popular seaside resort. By the turn of the twentieth century there was camping on the foreshore and guest houses were established\, and the draining of the swamp commenced in 1879 with the Patterson Cut. Land sales began in 1865 and the swamp was thrown open for selection in 1871. \n \nClick on flyer to enlarge.
URL:http://seha.org.au/event/coast-aspendale-to-carrum-looking-back-display-3
LOCATION:Chelsea Court House\, 6 The Strand\, Chelsea\, Victoria\, 3196\, Australia
CATEGORIES:Exhibition
END:VEVENT
BEGIN:VEVENT
DTSTART;TZID=Australia/Melbourne:20241123T100000
DTEND;TZID=Australia/Melbourne:20241123T150000
DTSTAMP:20260426T030712
CREATED:20241015T070503Z
LAST-MODIFIED:20241105T112211Z
UID:5084-1732356000-1732374000@seha.org.au
SUMMARY:Coast : Aspendale to Carrum Looking Back display
DESCRIPTION:Chelsea and District Historical Society present their latest display – Coast : Aspendale to Carrum Looking Back. \nWhere: Chelsea Courthouse\, 6 The Strand\, Chelsea.\nWhen:\nFriday\, November 22\, 2024 – 12 noon to 3.00pm\nSaturday\, November 23\, 2024 – 10.00am – 3.00pm\nSunday\, November 24\, 2024 – 10.00am -3.00pm. \nThe exhibition will feature old photographs and stories about the local area and how its development has been shaped by our magnificent beaches. Our books will be on sale and you are welcome to become a member of the Society. Free entry and everyone is welcome! \nThe following snapshot of history is paraphrased from “Chelsea: a Beachside Community” by Frank McGuire.\nBefore white settlers arrived\, first nations people\, The Bunurong\, knew the area as Karrum Karrum. Kangaroos and emu were to be found along the lightly wooded coast\, colonies of koalas were in the Manna Gums along the Isles of Wannak Laddin (modern day Chelsea Heights) and the swamp was teeming with birdlife. From the top of Olivers Hill the Bunurong would have seen the ribbon of sand running from present day Aspendale to Carrum. The swamp stretched about fifteen kilometres north/south from the Mordialloc Creek and ran about five kilometres inland. Development began with fishing and cattle farming and as people discovered the beautiful beaches\, the area became a popular seaside resort. By the turn of the twentieth century there was camping on the foreshore and guest houses were established\, and the draining of the swamp commenced in 1879 with the Patterson Cut. Land sales began in 1865 and the swamp was thrown open for selection in 1871. \n \nClick on flyer to enlarge.
URL:http://seha.org.au/event/coast-aspendale-to-carrum-looking-back-display-2
LOCATION:Chelsea Court House\, 6 The Strand\, Chelsea\, Victoria\, 3196\, Australia
CATEGORIES:Exhibition
END:VEVENT
BEGIN:VEVENT
DTSTART;TZID=Australia/Melbourne:20241122T120000
DTEND;TZID=Australia/Melbourne:20241122T150000
DTSTAMP:20260426T030712
CREATED:20241015T070326Z
LAST-MODIFIED:20241105T112113Z
UID:5079-1732276800-1732287600@seha.org.au
SUMMARY:Coast: Aspendale to Carrum Looking Back display
DESCRIPTION:Chelsea and District Historical Society present their latest display – Coast : Aspendale to Carrum Looking Back. \nWhere: Chelsea Courthouse\, 6 The Strand\, Chelsea.\nWhen:\nFriday\, November 22\, 2024 – 12 noon to 3.00pm\nSaturday\, November 23\, 2024 – 10.00am – 3.00pm\nSunday\, November 24\, 2024 – 10.00am -3.00pm. \nThe exhibition will feature old photographs and stories about the local area and how its development has been shaped by our magnificent beaches. Our books will be on sale and you are welcome to become a member of the Society. Free entry and everyone is welcome! \nThe following snapshot of history is paraphrased from “Chelsea: a Beachside Community” by Frank McGuire.\nBefore white settlers arrived\, first nations people\, The Bunurong\, knew the area as Karrum Karrum. Kangaroos and emu were to be found along the lightly wooded coast\, colonies of koalas were in the Manna Gums along the Isles of Wannak Laddin (modern day Chelsea Heights) and the swamp was teeming with birdlife. From the top of Olivers Hill the Bunurong would have seen the ribbon of sand running from present day Aspendale to Carrum. The swamp stretched about fifteen kilometres north/south from the Mordialloc Creek and ran about five kilometres inland. Development began with fishing and cattle farming and as people discovered the beautiful beaches\, the area became a popular seaside resort. By the turn of the twentieth century there was camping on the foreshore and guest houses were established\, and the draining of the swamp commenced in 1879 with the Patterson Cut. Land sales began in 1865 and the swamp was thrown open for selection in 1871. \n \nClick on flyer to enlarge.
URL:http://seha.org.au/event/coast-aspendale-to-carrum-looking-back-display
LOCATION:Chelsea Court House\, 6 The Strand\, Chelsea\, Victoria\, 3196\, Australia
CATEGORIES:Exhibition
END:VEVENT
BEGIN:VEVENT
DTSTART;TZID=Australia/Melbourne:20231126T100000
DTEND;TZID=Australia/Melbourne:20231126T150000
DTSTAMP:20260426T030712
CREATED:20231105T093840Z
LAST-MODIFIED:20231105T093840Z
UID:4588-1700992800-1701010800@seha.org.au
SUMMARY:Six decades of history – Chelsea Historical Society exhibition
DESCRIPTION:The Chelsea and District Historical Society is celebrating 60 years with an exhibition of some of the photographs\, artefacts and stories collected since 1963.The exhibition\, Six decades of history\, will be open to the public over 3 days – Friday\, November 24 to Sunday\, November 26 at Chelsea Court House\, 6 The Strand\, Chelsea. Open daily between 10.00am and 3.00pm. \n\n\n\n\n\nEntry is free and local history books will be for sale.
URL:http://seha.org.au/event/six-decades-of-history-chelsea-historical-society-exhibition-3
LOCATION:Chelsea Court House\, 6 The Strand\, Chelsea\, Victoria\, 3196\, Australia
CATEGORIES:Exhibition
END:VEVENT
BEGIN:VEVENT
DTSTART;TZID=Australia/Melbourne:20231125T100000
DTEND;TZID=Australia/Melbourne:20231125T150000
DTSTAMP:20260426T030712
CREATED:20231105T093707Z
LAST-MODIFIED:20231105T093707Z
UID:4586-1700906400-1700924400@seha.org.au
SUMMARY:Six decades of history – Chelsea Historical Society exhibition
DESCRIPTION:The Chelsea and District Historical Society is celebrating 60 years with an exhibition of some of the photographs\, artefacts and stories collected since 1963.The exhibition\, Six decades of history\, will be open to the public over 3 days – Friday\, November 24 to Sunday\, November 26 at Chelsea Court House\, 6 The Strand\, Chelsea. Open daily between 10.00am and 3.00pm. \n\n\n\nEntry is free and local history books will be for sale.
URL:http://seha.org.au/event/six-decades-of-history-chelsea-historical-society-exhibition-2
LOCATION:Chelsea Court House\, 6 The Strand\, Chelsea\, Victoria\, 3196\, Australia
CATEGORIES:Exhibition
END:VEVENT
BEGIN:VEVENT
DTSTART;TZID=Australia/Melbourne:20231124T100000
DTEND;TZID=Australia/Melbourne:20231124T150000
DTSTAMP:20260426T030712
CREATED:20231105T093524Z
LAST-MODIFIED:20231105T093524Z
UID:4582-1700820000-1700838000@seha.org.au
SUMMARY:Six decades of history - Chelsea Historical Society exhibition
DESCRIPTION:The Chelsea and District Historical Society is celebrating 60 years with an exhibition of some of the photographs\, artefacts and stories collected since 1963.The exhibition\, Six decades of history\, will be open to the public over 3 days – Friday\, November 24 to Sunday\, November 26 at Chelsea Court House\, 6 The Strand\, Chelsea. Open daily between 10.00am and 3.00pm. \nEntry is free and local history books will be for sale.
URL:http://seha.org.au/event/six-decades-of-history-chelsea-historical-society-exhibition
LOCATION:Chelsea Court House\, 6 The Strand\, Chelsea\, Victoria\, 3196\, Australia
CATEGORIES:Exhibition
END:VEVENT
BEGIN:VEVENT
DTSTART;TZID=Australia/Melbourne:20221127T100000
DTEND;TZID=Australia/Melbourne:20221127T150000
DTSTAMP:20260426T030712
CREATED:20221030T022418Z
LAST-MODIFIED:20221030T022418Z
UID:3872-1669543200-1669561200@seha.org.au
SUMMARY:Chelsea and District Historical Society - Days of Olde Exhibition
DESCRIPTION:Chelsea and District Historical Society presents the Days of Olde Exhibition: featuring photographs\, film and memorabilia from their collection. \nVenue: Chelsea Court House\, 6 The Strand\, Chelsea.\nOpening times –\nNovember 19 – 10.00am to 3.00pm\nNovember 20 – 10.00am to 3.00pm\nNovember 24 – 10.00am to 2.00pm\nNovember 25 – 10.00am to 2.00pm\nNovember 26 – 10.00am to 3.00pm\nNovember 27 – 10.00am to 3.00pm \nMore information – chelseadistricthistorical@gmail.com
URL:http://seha.org.au/event/chelsea-and-district-historical-society-days-of-olde-exhibition-6
LOCATION:Chelsea Court House\, 6 The Strand\, Chelsea\, Victoria\, 3196\, Australia
CATEGORIES:Exhibition
END:VEVENT
BEGIN:VEVENT
DTSTART;TZID=Australia/Melbourne:20221126T100000
DTEND;TZID=Australia/Melbourne:20221126T150000
DTSTAMP:20260426T030712
CREATED:20221030T022304Z
LAST-MODIFIED:20221030T022304Z
UID:3870-1669456800-1669474800@seha.org.au
SUMMARY:Chelsea and District Historical Society - Days of Olde Exhibition
DESCRIPTION:Chelsea and District Historical Society presents the Days of Olde Exhibition: featuring photographs\, film and memorabilia from their collection. \nVenue: Chelsea Court House\, 6 The Strand\, Chelsea.\nOpening times –\nNovember 19 – 10.00am to 3.00pm\nNovember 20 – 10.00am to 3.00pm\nNovember 24 – 10.00am to 2.00pm\nNovember 25 – 10.00am to 2.00pm\nNovember 26 – 10.00am to 3.00pm\nNovember 27 – 10.00am to 3.00pm \nMore information – chelseadistricthistorical@gmail.com
URL:http://seha.org.au/event/chelsea-and-district-historical-society-days-of-olde-exhibition-5
LOCATION:Chelsea Court House\, 6 The Strand\, Chelsea\, Victoria\, 3196\, Australia
CATEGORIES:Exhibition
END:VEVENT
BEGIN:VEVENT
DTSTART;TZID=Australia/Melbourne:20221125T100000
DTEND;TZID=Australia/Melbourne:20221125T140000
DTSTAMP:20260426T030712
CREATED:20221030T022108Z
LAST-MODIFIED:20221030T022108Z
UID:3868-1669370400-1669384800@seha.org.au
SUMMARY:Chelsea and District Historical Society - Days of Olde Exhibition
DESCRIPTION:Chelsea and District Historical Society presents the Days of Olde Exhibition: featuring photographs\, film and memorabilia from their collection. \nVenue: Chelsea Court House\, 6 The Strand\, Chelsea.\nOpening times –\nNovember 19 – 10.00am to 3.00pm\nNovember 20 – 10.00am to 3.00pm\nNovember 24 – 10.00am to 2.00pm\nNovember 25 – 10.00am to 2.00pm\nNovember 26 – 10.00am to 3.00pm\nNovember 27 – 10.00am to 3.00pm \nMore information – chelseadistricthistorical@gmail.com
URL:http://seha.org.au/event/chelsea-and-district-historical-society-days-of-olde-exhibition-4
LOCATION:Chelsea Court House\, 6 The Strand\, Chelsea\, Victoria\, 3196\, Australia
CATEGORIES:Exhibition
END:VEVENT
BEGIN:VEVENT
DTSTART;TZID=Australia/Melbourne:20221124T100000
DTEND;TZID=Australia/Melbourne:20221124T140000
DTSTAMP:20260426T030712
CREATED:20221030T021914Z
LAST-MODIFIED:20221030T021914Z
UID:3864-1669284000-1669298400@seha.org.au
SUMMARY:Chelsea and District Historical Society - Days of Olde Exhibition
DESCRIPTION:Chelsea and District Historical Society presents the Days of Olde Exhibition: featuring photographs\, film and memorabilia from their collection. \nVenue: Chelsea Court House\, 6 The Strand\, Chelsea.\nOpening times –\nNovember 19 – 10.00am to 3.00pm\nNovember 20 – 10.00am to 3.00pm\nNovember 24 – 10.00am to 2.00pm\nNovember 25 – 10.00am to 2.00pm\nNovember 26 – 10.00am to 3.00pm\nNovember 27 – 10.00am to 3.00pm \nMore information – chelseadistricthistorical@gmail.com
URL:http://seha.org.au/event/chelsea-and-district-historical-society-days-of-olde-exhibition-3
LOCATION:Chelsea Court House\, 6 The Strand\, Chelsea\, Victoria\, 3196\, Australia
CATEGORIES:Exhibition
END:VEVENT
BEGIN:VEVENT
DTSTART;TZID=Australia/Melbourne:20221120T100000
DTEND;TZID=Australia/Melbourne:20221120T150000
DTSTAMP:20260426T030712
CREATED:20221030T021654Z
LAST-MODIFIED:20221030T021654Z
UID:3862-1668938400-1668956400@seha.org.au
SUMMARY:Chelsea and District Historical Society - Days of Olde Exhibition
DESCRIPTION:Chelsea and District Historical Society presents the Days of Olde Exhibition: featuring photographs\, film and memorabilia from their collection. \nVenue: Chelsea Court House\, 6 The Strand\, Chelsea.\nOpening times –\nNovember 19 – 10.00am to 3.00pm\nNovember 20 – 10.00am to 3.00pm\nNovember 24 – 10.00am to 2.00pm\nNovember 25 – 10.00am to 2.00pm\nNovember 26 – 10.00am to 3.00pm\nNovember 27 – 10.00am to 3.00pm \nMore information – chelseadistricthistorical@gmail.com
URL:http://seha.org.au/event/chelsea-and-district-historical-society-days-of-olde-exhibition-2
LOCATION:Chelsea Court House\, 6 The Strand\, Chelsea\, Victoria\, 3196\, Australia
CATEGORIES:Exhibition
END:VEVENT
BEGIN:VEVENT
DTSTART;TZID=Australia/Melbourne:20221119T100000
DTEND;TZID=Australia/Melbourne:20221119T150000
DTSTAMP:20260426T030712
CREATED:20221030T021451Z
LAST-MODIFIED:20221030T021801Z
UID:3857-1668852000-1668870000@seha.org.au
SUMMARY:Chelsea and District Historical Society - Days of Olde Exhibition
DESCRIPTION:Chelsea and District Historical Society presents the Days of Olde Exhibition: featuring photographs\, film and memorabilia from their collection. \nVenue: Chelsea Court House\, 6 The Strand\, Chelsea.\nOpening times –\nNovember 19 – 10.00am to 3.00pm\nNovember 20 – 10.00am to 3.00pm\nNovember 24 – 10.00am to 2.00pm\nNovember 25 – 10.00am to 2.00pm\nNovember 26 – 10.00am to 3.00pm\nNovember 27 – 10.00am to 3.00pm \nMore information – chelseadistricthistorical@gmail.com
URL:http://seha.org.au/event/chelsea-and-district-historical-society-days-of-olde-exhibition
LOCATION:Chelsea Court House\, 6 The Strand\, Chelsea\, Victoria\, 3196\, Australia
CATEGORIES:Exhibition
END:VEVENT
BEGIN:VEVENT
DTSTART;TZID=Australia/Melbourne:20221028T160000
DTEND;TZID=Australia/Melbourne:20221028T173000
DTSTAMP:20260426T030712
CREATED:20221017T075507Z
LAST-MODIFIED:20221017T075748Z
UID:3841-1666972800-1666978200@seha.org.au
SUMMARY:City of Greater Dandenong - Hands on with the Past
DESCRIPTION:See Greater Dandenong’s rich history firsthand by handling special objects from the City’s Civic and Cultural Heritage Collection\, at the event Hands on with the Past. \nYou will be encouraged to interact with and discuss the history and heritage of the area and see parts of that history replicated in 3D\, with a special item to take home. This event is being run in conjunction with Victoria Seniors Festival and the Royal Historical Society of Victoria’s History Month\, and the exhibition City of Greater Dandenong: Then and Now. \nThis event is free\, bookings are required. Event date: 28 October 2022. Event Location: The Studio\, Springvale Community Hub\, 5 Hillcrest Grove\, Springvale. Event Time: 4:00 – 5:30pm \nFor bookings please visit www.greaterdandenong.vic.gov.au/greater-dandenong-council/events/hands-past-seniors-festival \nFor further information please contact heritage staff on culturalheritage@cgd.vic.gov.au or 8571 1000.
URL:http://seha.org.au/event/city-of-greater-dandenong-hands-on-with-the-past
LOCATION:Springvale Community Hub\, 5 Hillcrest Grove\, Springvale\, Victoria\, 3171\, Australia
CATEGORIES:Exhibition
END:VEVENT
BEGIN:VEVENT
DTSTART;VALUE=DATE:20220730
DTEND;VALUE=DATE:20220801
DTSTAMP:20260426T030712
CREATED:20220721T075026Z
LAST-MODIFIED:20220721T075242Z
UID:3783-1659139200-1659311999@seha.org.au
SUMMARY:Open House Melbourne 2022
DESCRIPTION:Open House Melbourne 2022 is on July 30 and July 31 –  https://openhousemelbourne.org/\n\nHere are all the events in the SEHA region (or affiliated groups) – opening times vary\, check each individual location\n\nCarrum – https://openhousemelbourne.org/event/carrum-station-2/\nCaulfield South – https://openhousemelbourne.org/event/brighton-general-cemetery/\nChelsea – https://openhousemelbourne.org/event/chelsea-court-house/\nDandenong – https://openhousemelbourne.org/event/dandenong-town-hall-and-drum-theatre/\nMentone – https://openhousemelbourne.org/event/mentone-heritage-buildings-gardens/\nMentone – https://openhousemelbourne.org/event/old-bakery-museum-mentone/\nMt Burnett Observatory – https://openhousemelbourne.org/event/mount-burnett-observatory-2/\nNarre Warren – https://openhousemelbourne.org/event/bunjil-place/\nSpringvale – https://openhousemelbourne.org/event/springvale-community-hub/ 
URL:http://seha.org.au/event/open-house-melbourne-2022
LOCATION:Victoria
CATEGORIES:Exhibition,Open Day
END:VEVENT
BEGIN:VEVENT
DTSTART;TZID=Australia/Melbourne:20220713T133000
DTEND;TZID=Australia/Melbourne:20220713T153000
DTSTAMP:20260426T030712
CREATED:20220623T104020Z
LAST-MODIFIED:20220623T105123Z
UID:3763-1657719000-1657726200@seha.org.au
SUMMARY:A Floral Muse exhibition - Curator's talk
DESCRIPTION:Benga House\, Heritage Hill\, 66 McCrae Street\, Dandenong presents the exhibition – A Floral Muse. Open Tuesday to Friday\, 10.00am to 4.00pm. Details are here https://www.greaterdandenong.vic.gov.au/greater-dandenong-council/events/floral-muse-exhibition \n\n\n\nA talk with the curator\, Rhonda Diffey\, will be held  on July 13\, at 1.30pm. Free\, but bookings essential https://www.greaterdandenong.vic.gov.au/greater-dandenong-council/events/floral-muse-exhibition-talk-curator  Afternoon tea will follow.
URL:http://seha.org.au/event/a-floral-muse-exhibition-curators-talk
LOCATION:Benga House\, 66 McCrae Street\, Dandenong\, Victoria\, 3175\, Australia
CATEGORIES:Exhibition
END:VEVENT
END:VCALENDAR